BEGIN:VCALENDAR
VERSION:2.0
PRODID:-//ppi.communityadvocates.net//NONSGML kigkonsult.se iCalcreator 2.3
 0.10//
CALSCALE:GREGORIAN
METHOD:PUBLISH
UID:de0481fb-32e8-4502-baf6-246fab8efd4a
X-WR-CALDESC:<b>**This training is full and we are no longer taking registr
 ations. Please sign up for our training announcements at the link below an
 d you will be the first to find out about Youth Reentry Support trainings 
 in the future Thank you!**</b>\n\nThe Youth Reentry Support Training equip
 s residents and service providers with tools to support previously incarce
 rated youth and young adults with reentering the community. Many African A
 merican families find their loved ones going back to prison while on proba
 tion and parole. This cycle of recidivism disrupts the black family's rela
 tionships\, housing\, income\, and health. This training helps African Ame
 rican communities interrupt the cycle of recidivism through resource coord
 ination and relationship building.\n\nThis training is sponsored By ReCast
  MKE through the Office of Violence Prevention in partnership with Communi
 ty Advocates Public Policy Institute.\n\n<b>This training is free and open
  to the public\, but registration is required at the link below. See you A
 pril 25!</b>\n
X-WR-RELCALID:6a23a550553b2b302531b1e979a39462
X-WR-TIMEZONE:America/Chicago
BEGIN:VTIMEZONE
TZID:America/Chicago
BEGIN:STANDARD
TZNAME:CST
DTSTART:20181104T020000
TZOFFSETFROM:-0500
TZOFFSETTO:-0600
RDATE:20191103T020000
END:STANDARD
BEGIN:DAYLIGHT
TZNAME:CDT
DTSTART:20190310T020000
TZOFFSETFROM:-0600
TZOFFSETTO:-0500
RDATE:20200308T020000
END:DAYLIGHT
END:VTIMEZONE
BEGIN:VEVENT
UID:ef7a0230-887a-4654-a03c-57054c91a8ef
DTSTAMP:20260421T115238Z
DESCRIPTION:<b>**This training is full and we are no longer taking registra
 tions. Please sign up for our training announcements at the link below and
  you will be the first to find out about Youth Reentry Support trainings i
 n the future Thank you!**</b>\n\nThe Youth Reentry Support Training equips
  residents and service providers with tools to support previously incarcer
 ated youth and young adults with reentering the community. Many African Am
 erican families find their loved ones going back to prison while on probat
 ion and parole. This cycle of recidivism disrupts the black family's relat
 ionships\, housing\, income\, and health. This training helps African Amer
 ican communities interrupt the cycle of recidivism through resource coordi
 nation and relationship building.\n\nThis training is sponsored By ReCast 
 MKE through the Office of Violence Prevention in partnership with Communit
 y Advocates Public Policy Institute.\n\n<b>This training is free and open 
 to the public\, but registration is required at the link below. See you Ap
 ril 25!</b>\n
DTSTART;TZID=America/Chicago:20190425T150000
DTEND;TZID=America/Chicago:20190425T180000
LOCATION:Ephesians Missionary Baptist Church Learning Center\, 2412 N. 6th 
 St.\, Milwaukee\, WI 53212
SUMMARY:Youth Reentry Support Training
END:VEVENT
END:VCALENDAR
