BEGIN:VCALENDAR
VERSION:2.0
PRODID:-//ppi.communityadvocates.net//NONSGML kigkonsult.se iCalcreator 2.3
 0.10//
CALSCALE:GREGORIAN
METHOD:PUBLISH
UID:f27ee326-b387-4136-b62d-a702a83bb551
X-WR-CALDESC:Calling all social service providers\, advocates\, and consume
 rs! The Empowerment Coalition of Milwaukee\, sponsored by Community Advoca
 tes\, will hold this discussion of legal services at the United Way of Gre
 ater Milwaukee and Waukesha County\, 225 W. Vine St.\, Milwaukee\, from 9 
 a.m. to noon.\n\nAdvance registration is required for all workshops.\n\nWo
 rkshops are $5 per session\; please pay in advance or on the day of the wo
 rkshop. Please mail the registration form to Community Advocates\, Attenti
 on: ECOM\, 728 N. James Lovell St.\, Milwaukee\, WI 53233\; fax it to Deni
 se Lovelace at 414-875-2010 or email it to dlovelace@communityadvocates.ne
 t.
X-WR-RELCALID:19a7ef8d2bc2b88626f2621b5fad48f7
X-WR-TIMEZONE:America/Chicago
BEGIN:VTIMEZONE
TZID:America/Chicago
BEGIN:STANDARD
TZNAME:CST
DTSTART:20181104T020000
TZOFFSETFROM:-0500
TZOFFSETTO:-0600
RDATE:20191103T020000
END:STANDARD
BEGIN:DAYLIGHT
TZNAME:CDT
DTSTART:20190310T020000
TZOFFSETFROM:-0600
TZOFFSETTO:-0500
RDATE:20200308T020000
END:DAYLIGHT
END:VTIMEZONE
BEGIN:VEVENT
UID:f7b29878-a8d8-4318-be38-1709f6dd4fd7
DTSTAMP:20260421T115603Z
DESCRIPTION:Calling all social service providers\, advocates\, and consumer
 s! The Empowerment Coalition of Milwaukee\, sponsored by Community Advocat
 es\, will hold this discussion of legal services at the United Way of Grea
 ter Milwaukee and Waukesha County\, 225 W. Vine St.\, Milwaukee\, from 9 a
 .m. to noon.\n\nAdvance registration is required for all workshops.\n\nWor
 kshops are $5 per session\; please pay in advance or on the day of the wor
 kshop. Please mail the registration form to Community Advocates\, Attentio
 n: ECOM\, 728 N. James Lovell St.\, Milwaukee\, WI 53233\; fax it to Denis
 e Lovelace at 414-875-2010 or email it to dlovelace@communityadvocates.net
 .
DTSTART;TZID=America/Chicago:20190419T090000
DTEND;TZID=America/Chicago:20190419T120000
LOCATION:United Way of Greater Milwaukee and Waukesha County\, 225 W. Vine 
 St.\, Milwaukee
SUMMARY:Empowerment Coalition of Milwaukee Workshop
END:VEVENT
END:VCALENDAR
