BEGIN:VCALENDAR
VERSION:2.0
PRODID:-//ppi.communityadvocates.net//NONSGML kigkonsult.se iCalcreator 2.3
 0.10//
CALSCALE:GREGORIAN
METHOD:PUBLISH
UID:fff744dc-24a3-41a3-9d28-2669a00c62c1
X-WR-CALDESC:<b>**This training is full and we are no longer taking registr
 ations. Please sign up for our training announcements at the link below an
 d you will be the first to know about Substance Abuse and Trauma trainings
  in the future. Thank you!**</b>\n\nSubstance abuse prevention specialists
 \, youth workers\, counselors\, and AODA counselors will be exposed to the
  National Child Traumatic Stress Network research on trauma and substance 
 abuse. Participants will learn more about prevention-based self-care strat
 egies designed to reduce substance abuse.\n\nThis training is sponsored by
  ReCast MKE through the Office of Violence Prevention in partnership with 
 Community Advocates Public Policy Institute.\n\n<b> This training is free 
 and open to the public\, but registration is required at the link below. S
 ee you April 17!</b>\n
X-WR-RELCALID:a040e743d0271a91f690630ee88d3d9c
X-WR-TIMEZONE:America/Chicago
BEGIN:VTIMEZONE
TZID:America/Chicago
BEGIN:STANDARD
TZNAME:CST
DTSTART:20181104T020000
TZOFFSETFROM:-0500
TZOFFSETTO:-0600
RDATE:20191103T020000
END:STANDARD
BEGIN:DAYLIGHT
TZNAME:CDT
DTSTART:20190310T020000
TZOFFSETFROM:-0600
TZOFFSETTO:-0500
RDATE:20200308T020000
END:DAYLIGHT
END:VTIMEZONE
BEGIN:VEVENT
UID:e33cbb34-dc10-4541-af8a-9ebb3f3a5c00
DTSTAMP:20260421T115027Z
DESCRIPTION:<b>**This training is full and we are no longer taking registra
 tions. Please sign up for our training announcements at the link below and
  you will be the first to know about Substance Abuse and Trauma trainings 
 in the future. Thank you!**</b>\n\nSubstance abuse prevention specialists\
 , youth workers\, counselors\, and AODA counselors will be exposed to the 
 National Child Traumatic Stress Network research on trauma and substance a
 buse. Participants will learn more about prevention-based self-care strate
 gies designed to reduce substance abuse.\n\nThis training is sponsored by 
 ReCast MKE through the Office of Violence Prevention in partnership with C
 ommunity Advocates Public Policy Institute.\n\n<b> This training is free a
 nd open to the public\, but registration is required at the link below. Se
 e you April 17!</b>\n
DTSTART;TZID=America/Chicago:20190417T100000
DTEND;TZID=America/Chicago:20190417T130000
LOCATION:Milwaukee Christian Center\, 807 S. 14th St\, Milwaukee\, WI 53204
SUMMARY:Substance Abuse and Trauma Training
END:VEVENT
END:VCALENDAR
