BEGIN:VCALENDAR
VERSION:2.0
PRODID:-//ppi.communityadvocates.net//NONSGML kigkonsult.se iCalcreator 2.3
 0.10//
CALSCALE:GREGORIAN
METHOD:PUBLISH
UID:fe44c8ed-42da-4338-bd2f-9cee5bbb5565
X-WR-CALDESC:Youth Mental Health First Aid is primarily designed for adults
  who regularly interact with young people. The course introduces common me
 ntal health challenges for youth\, reviews typical adolescent development\
 , and teaches a 5-step action plan for how to help young people in both cr
 isis and non-crisis situations. Topics covered include anxiety\, depressio
 n\, substance use\, disorders in which psychosis may occur\, disruptive be
 havior disorders (including AD/HD)\, and eating disorders.\n\nThis trainin
 g is sponsored by ReCast MKE through the Office of Violence Prevention in 
 partnership with Community Advocates Public Policy Institute.\n\n<b>This t
 raining is free and open to the public\, but registration is required at t
 he link below. See you on April 9!</b>
X-WR-RELCALID:6faa6cf069819e61f67596158352e1ff
X-WR-TIMEZONE:America/Chicago
BEGIN:VTIMEZONE
TZID:America/Chicago
BEGIN:STANDARD
TZNAME:CST
DTSTART:20181104T020000
TZOFFSETFROM:-0500
TZOFFSETTO:-0600
RDATE:20191103T020000
END:STANDARD
BEGIN:DAYLIGHT
TZNAME:CDT
DTSTART:20190310T020000
TZOFFSETFROM:-0600
TZOFFSETTO:-0500
RDATE:20200308T020000
END:DAYLIGHT
END:VTIMEZONE
BEGIN:VEVENT
UID:39d03734-493e-4b53-8f1d-dc723c1d11ee
DTSTAMP:20260421T115026Z
DESCRIPTION:Youth Mental Health First Aid is primarily designed for adults 
 who regularly interact with young people. The course introduces common men
 tal health challenges for youth\, reviews typical adolescent development\,
  and teaches a 5-step action plan for how to help young people in both cri
 sis and non-crisis situations. Topics covered include anxiety\, depression
 \, substance use\, disorders in which psychosis may occur\, disruptive beh
 avior disorders (including AD/HD)\, and eating disorders.\n\nThis training
  is sponsored by ReCast MKE through the Office of Violence Prevention in p
 artnership with Community Advocates Public Policy Institute.\n\n<b>This tr
 aining is free and open to the public\, but registration is required at th
 e link below. See you on April 9!</b>
DTSTART;TZID=America/Chicago:20190412T090000
DTEND;TZID=America/Chicago:20190412T170000
LOCATION:Community Advocates Training Center\, 6900 W. Brown Deer Road\, Mi
 lwaukee
SUMMARY:Youth Mental Health First Aid Training
END:VEVENT
END:VCALENDAR
