BEGIN:VCALENDAR
VERSION:2.0
PRODID:-//ppi.communityadvocates.net//NONSGML kigkonsult.se iCalcreator 2.3
 0.10//
CALSCALE:GREGORIAN
METHOD:PUBLISH
UID:e52d7bd0-8a63-46a3-80a0-1b8f5d2f831f
X-WR-CALDESC:Did you know that more poor people live in American suburbs th
 an in our cities?\n\nContrary to long-held stereotypes of suburbs as place
 s of affluence far from the needs and stresses of urban life\, Scott W. Al
 lard reveals the truth about 21st century suburbs in 'Places in Need: The 
 Changing Geography of Poverty.' \n\nAllard found that suburban poverty has
  more than doubled in the past 25 years and low-income households in the s
 uburbs resemble their counterparts in the cities more than we ever imagine
 d. That said\, suburbs don’t have adequate safety net support to meet the 
 needs of their struggling residents. \n\nCommunity Advocates Public Policy
  Institute and the City of West Allis invite you to a lively discussion wi
 th Scott W. Allard on Thursday\, March 28\, from 9:30 to 11:30 a.m. at Wes
 t Allis City Hall\, 7525 W. Greenfield Ave.\, West Allis. This free event 
 is open to the public\, but registration is required at the link below.
X-WR-RELCALID:867879f9e01dfb73bbd0ce1dcce231a7
X-WR-TIMEZONE:America/Chicago
BEGIN:VTIMEZONE
TZID:America/Chicago
BEGIN:STANDARD
TZNAME:CST
DTSTART:20181104T020000
TZOFFSETFROM:-0500
TZOFFSETTO:-0600
RDATE:20191103T020000
END:STANDARD
BEGIN:DAYLIGHT
TZNAME:CDT
DTSTART:20190310T020000
TZOFFSETFROM:-0600
TZOFFSETTO:-0500
RDATE:20200308T020000
END:DAYLIGHT
END:VTIMEZONE
BEGIN:VEVENT
UID:2b0f0732-34ba-49c8-a3d5-a9a90cec2fea
DTSTAMP:20260421T131003Z
DESCRIPTION:Did you know that more poor people live in American suburbs tha
 n in our cities?\n\nContrary to long-held stereotypes of suburbs as places
  of affluence far from the needs and stresses of urban life\, Scott W. All
 ard reveals the truth about 21st century suburbs in 'Places in Need: The C
 hanging Geography of Poverty.' \n\nAllard found that suburban poverty has 
 more than doubled in the past 25 years and low-income households in the su
 burbs resemble their counterparts in the cities more than we ever imagined
 . That said\, suburbs don’t have adequate safety net support to meet the n
 eeds of their struggling residents. \n\nCommunity Advocates Public Policy 
 Institute and the City of West Allis invite you to a lively discussion wit
 h Scott W. Allard on Thursday\, March 28\, from 9:30 to 11:30 a.m. at West
  Allis City Hall\, 7525 W. Greenfield Ave.\, West Allis. This free event i
 s open to the public\, but registration is required at the link below.
DTSTART;TZID=America/Chicago:20190328T093000
DTEND;TZID=America/Chicago:20190328T113000
LOCATION:West Allis City Hall\, 7525 W. Greenfield Ave.\, West Allis
SUMMARY:A Conversation with Scott Allard\, Author\, 'Places in Need: The Ch
 anging Geography of Poverty'
END:VEVENT
END:VCALENDAR
