BEGIN:VCALENDAR
VERSION:2.0
PRODID:-//ppi.communityadvocates.net//NONSGML kigkonsult.se iCalcreator 2.3
 0.10//
CALSCALE:GREGORIAN
METHOD:PUBLISH
UID:881e6ca1-41b7-41f1-8c78-902435bfb0e3
X-WR-CALDESC:All are welcome to attend the monthly Milwaukee Reentry Counci
 l meeting\, which is devoted to removing barriers for those leaving incarc
 eration and returning to Milwaukee. Contact Conor Williams for details.
X-WR-RELCALID:a34ef855e77516457a27010f71d48930
X-WR-TIMEZONE:America/Chicago
BEGIN:VTIMEZONE
TZID:America/Chicago
BEGIN:STANDARD
TZNAME:CST
DTSTART:20181104T020000
TZOFFSETFROM:-0500
TZOFFSETTO:-0600
RDATE:20191103T020000
END:STANDARD
BEGIN:DAYLIGHT
TZNAME:CDT
DTSTART:20190310T020000
TZOFFSETFROM:-0600
TZOFFSETTO:-0500
RDATE:20200308T020000
END:DAYLIGHT
END:VTIMEZONE
BEGIN:VEVENT
UID:cde9ebfc-c018-4920-9c0e-5c7ab3b718a9
DTSTAMP:20260421T131808Z
DESCRIPTION:All are welcome to attend the monthly Milwaukee Reentry Council
  meeting\, which is devoted to removing barriers for those leaving incarce
 ration and returning to Milwaukee. Contact Conor Williams for details.
DTSTART;TZID=America/Chicago:20190327T140000
DTEND;TZID=America/Chicago:20190327T153000
LOCATION:To Be Announced
SUMMARY:Milwaukee Reentry Council Meeting
END:VEVENT
END:VCALENDAR
