BEGIN:VCALENDAR
VERSION:2.0
PRODID:-//ppi.communityadvocates.net//NONSGML kigkonsult.se iCalcreator 2.3
 0.10//
CALSCALE:GREGORIAN
METHOD:PUBLISH
UID:9475ca10-2077-4005-b1c3-461ac7c5d7fa
X-WR-CALDESC:Members of the MCSAP coalition will meet from noon to 2:30 p.m
 . Location to be determined. Interested in attending? Contact us at the li
 nk below.
X-WR-RELCALID:cae521265e367252d50ce281f4ea3273
X-WR-TIMEZONE:America/Chicago
BEGIN:VTIMEZONE
TZID:America/Chicago
BEGIN:STANDARD
TZNAME:CST
DTSTART:20181104T020000
TZOFFSETFROM:-0500
TZOFFSETTO:-0600
RDATE:20191103T020000
END:STANDARD
BEGIN:DAYLIGHT
TZNAME:CDT
DTSTART:20190310T020000
TZOFFSETFROM:-0600
TZOFFSETTO:-0500
RDATE:20200308T020000
END:DAYLIGHT
END:VTIMEZONE
BEGIN:VEVENT
UID:18a47a15-946a-4816-a353-bf44648ae79b
DTSTAMP:20260421T131355Z
DESCRIPTION:Members of the MCSAP coalition will meet from noon to 2:30 p.m.
  Location to be determined. Interested in attending? Contact us at the lin
 k below.
DTSTART;TZID=America/Chicago:20190321T120000
DTEND;TZID=America/Chicago:20190321T143000
LOCATION:To Be Announced
SUMMARY:MCSAP Coalition Meeting
END:VEVENT
END:VCALENDAR
