BEGIN:VCALENDAR
VERSION:2.0
PRODID:-//ppi.communityadvocates.net//NONSGML kigkonsult.se iCalcreator 2.3
 0.10//
CALSCALE:GREGORIAN
METHOD:PUBLISH
UID:5450df88-6065-4950-a559-c23e9aa07e6a
X-WR-CALDESC:MCSAP’s third annual youth summit will focus on positive alter
 natives to substance use. Middle school and high school students are encou
 raged to attend this gathering\, which will include mini-workshops\, some 
 of them youth-led\, as well as two keynote speakers.\n\nThe summit’s openi
 ng keynote speaker is Kwabena Antoine Nixon\, poet\, author\, and co-found
 er of Flood the Hood with Dreams. Khalil Coleman\, founder of Changing Liv
 es through Literature\, will provide the closing keynote presentation.\n\n
 The summit will be held on Friday\, March 15\, from 9:30 a.m. to 3 p.m. at
  Neu-Life Community Development\, 2014 W. North Ave.\, Milwaukee.
X-WR-RELCALID:b9d365838e14b6891576eb64283c99ab
X-WR-TIMEZONE:America/Chicago
BEGIN:VTIMEZONE
TZID:America/Chicago
BEGIN:STANDARD
TZNAME:CST
DTSTART:20181104T020000
TZOFFSETFROM:-0500
TZOFFSETTO:-0600
RDATE:20191103T020000
END:STANDARD
BEGIN:DAYLIGHT
TZNAME:CDT
DTSTART:20190310T020000
TZOFFSETFROM:-0600
TZOFFSETTO:-0500
RDATE:20200308T020000
END:DAYLIGHT
END:VTIMEZONE
BEGIN:VEVENT
UID:d79acda9-e4a3-490f-a3f6-aaa40dc3eaed
DTSTAMP:20260421T132148Z
DESCRIPTION:MCSAP’s third annual youth summit will focus on positive altern
 atives to substance use. Middle school and high school students are encour
 aged to attend this gathering\, which will include mini-workshops\, some o
 f them youth-led\, as well as two keynote speakers.\n\nThe summit’s openin
 g keynote speaker is Kwabena Antoine Nixon\, poet\, author\, and co-founde
 r of Flood the Hood with Dreams. Khalil Coleman\, founder of Changing Live
 s through Literature\, will provide the closing keynote presentation.\n\nT
 he summit will be held on Friday\, March 15\, from 9:30 a.m. to 3 p.m. at 
 Neu-Life Community Development\, 2014 W. North Ave.\, Milwaukee.
DTSTART;TZID=America/Chicago:20190315T093000
DTEND;TZID=America/Chicago:20190315T150000
LOCATION:Neu-Life Community Development\, 2014 W. North Ave.\, Milwaukee
SUMMARY:Third Annual MCSAP Youth Summit: What's Your Natural High?
END:VEVENT
END:VCALENDAR
