BEGIN:VCALENDAR
VERSION:2.0
PRODID:-//ppi.communityadvocates.net//NONSGML kigkonsult.se iCalcreator 2.3
 0.10//
CALSCALE:GREGORIAN
METHOD:PUBLISH
UID:aa3a5d37-130e-49e8-9d1a-ab9113d1e653
X-WR-CALDESC:The numbers are staggering: over the past 20 years in Chicago\
 , 14\,033 people have been killed and another roughly 60\,000 wounded by g
 unfire. What does that do to the spirit of individuals and community? \n\n
 Drawing on his decades of experience\, Alex Kotlowitz\, author of 'There A
 re No Children Here\,' set out to chronicle one summer in the city\, writi
 ng about individuals who have emerged from the violence and whose stories 
 capture the capacity -- and the breaking point -- of the human heart and s
 oul. The result\, 'An American Summer: Love and Death in Chicago\,' is a s
 pellbinding collection of deeply intimate profiles that upend what we thin
 k we know about gun violence in America.\n\nAmong others\, we meet a man w
 ho as a teenager killed a rival gang member and twenty years later is stil
 l trying to come to terms with what he's done\; a devoted school social wo
 rker struggling with her favorite student\, who refuses to give evidence i
 n the shooting death of his best friend\; the witness to a wrongful police
  shooting who can't shake what he has seen\; and an aging former gang lead
 er who builds a place of refuge for himself and his friends. \n\nCommunity
  Advocates Public Policy Institute and the City of Milwaukee Office of Vio
 lence Prevention are cosponsoring this evening at Boswell Book Co.\, durin
 g which Kotlowitz will discuss and sign 'An American Summer: Love and Deat
 h in Chicago.' \n\nRegistration is strongly encouraged for this free commu
 nity event to help us plan for and accommodate all of our guests.
X-WR-RELCALID:a000bb9a751e6342f7f61fe86c0b134a
X-WR-TIMEZONE:America/Chicago
BEGIN:VTIMEZONE
TZID:America/Chicago
BEGIN:STANDARD
TZNAME:CST
DTSTART:20181104T020000
TZOFFSETFROM:-0500
TZOFFSETTO:-0600
RDATE:20191103T020000
END:STANDARD
BEGIN:DAYLIGHT
TZNAME:CDT
DTSTART:20190310T020000
TZOFFSETFROM:-0600
TZOFFSETTO:-0500
RDATE:20200308T020000
END:DAYLIGHT
END:VTIMEZONE
BEGIN:VEVENT
UID:59c59fdb-eed8-4365-8241-c8f440629273
DTSTAMP:20260421T131546Z
DESCRIPTION:The numbers are staggering: over the past 20 years in Chicago\,
  14\,033 people have been killed and another roughly 60\,000 wounded by gu
 nfire. What does that do to the spirit of individuals and community? \n\nD
 rawing on his decades of experience\, Alex Kotlowitz\, author of 'There Ar
 e No Children Here\,' set out to chronicle one summer in the city\, writin
 g about individuals who have emerged from the violence and whose stories c
 apture the capacity -- and the breaking point -- of the human heart and so
 ul. The result\, 'An American Summer: Love and Death in Chicago\,' is a sp
 ellbinding collection of deeply intimate profiles that upend what we think
  we know about gun violence in America.\n\nAmong others\, we meet a man wh
 o as a teenager killed a rival gang member and twenty years later is still
  trying to come to terms with what he's done\; a devoted school social wor
 ker struggling with her favorite student\, who refuses to give evidence in
  the shooting death of his best friend\; the witness to a wrongful police 
 shooting who can't shake what he has seen\; and an aging former gang leade
 r who builds a place of refuge for himself and his friends. \n\nCommunity 
 Advocates Public Policy Institute and the City of Milwaukee Office of Viol
 ence Prevention are cosponsoring this evening at Boswell Book Co.\, during
  which Kotlowitz will discuss and sign 'An American Summer: Love and Death
  in Chicago.' \n\nRegistration is strongly encouraged for this free commun
 ity event to help us plan for and accommodate all of our guests.
DTSTART;TZID=America/Chicago:20190313T190000
DTEND;TZID=America/Chicago:20190313T210000
LOCATION:Boswell Book Company\, 2559 N. Downer Ave.\, Milwaukee
SUMMARY:An Evening with Alex Kotlowitz\, Author of 'An American Summer: Lov
 e and Death in Chicago'
END:VEVENT
END:VCALENDAR
