BEGIN:VCALENDAR
VERSION:2.0
PRODID:-//ppi.communityadvocates.net//NONSGML kigkonsult.se iCalcreator 2.3
 0.10//
CALSCALE:GREGORIAN
METHOD:PUBLISH
UID:56482db5-c0c8-4337-9928-e2496f18a42a
X-WR-CALDESC:The Milwaukee County Substance Abuse Prevention (MCSAP) coalit
 ion will provide outreach at the Marquette-Georgetown men's basketball gam
 e.
X-WR-RELCALID:bde83018d0288e8dfd7d4d1648248903
X-WR-TIMEZONE:America/Chicago
BEGIN:VTIMEZONE
TZID:America/Chicago
BEGIN:STANDARD
TZNAME:CST
DTSTART:20181104T020000
TZOFFSETFROM:-0500
TZOFFSETTO:-0600
RDATE:20191103T020000
END:STANDARD
BEGIN:DAYLIGHT
TZNAME:CDT
DTSTART:20180311T020000
TZOFFSETFROM:-0600
TZOFFSETTO:-0500
RDATE:20190310T020000
RDATE:20200308T020000
END:DAYLIGHT
END:VTIMEZONE
BEGIN:VEVENT
UID:cb679ad4-466f-4666-bfc4-4e237b9f730f
DTSTAMP:20260421T131546Z
DESCRIPTION:The Milwaukee County Substance Abuse Prevention (MCSAP) coaliti
 on will provide outreach at the Marquette-Georgetown men's basketball game
 .
DTSTART;TZID=America/Chicago:20190309T140000
DTEND;TZID=America/Chicago:20190309T170000
LOCATION:Fiserv Forum
SUMMARY:MCSAP at Marquette University Men's Basketball Game
END:VEVENT
END:VCALENDAR
