BEGIN:VCALENDAR
VERSION:2.0
PRODID:-//ppi.communityadvocates.net//NONSGML kigkonsult.se iCalcreator 2.3
 0.10//
CALSCALE:GREGORIAN
METHOD:PUBLISH
UID:81705c6a-ddf9-4f5b-973e-6a974a6706d8
X-WR-CALDESC:Join Community Advocates Public Policy Institute's panel discu
 ssion with state leaders from both parties to discover which policy change
 s will help Wisconsinites find and keep family-supporting jobs\, earn good
  wages\, have health care coverage\, and thrive in 2019 and beyond. This e
 vent is free and open to the public\, but an RSVP is appreciated to help u
 s plan.
X-WR-RELCALID:afa8d9e8b452d9533599a42b3a904937
X-WR-TIMEZONE:America/Chicago
BEGIN:VTIMEZONE
TZID:America/Chicago
BEGIN:STANDARD
TZNAME:CST
DTSTART:20181104T020000
TZOFFSETFROM:-0500
TZOFFSETTO:-0600
RDATE:20191103T020000
END:STANDARD
BEGIN:DAYLIGHT
TZNAME:CDT
DTSTART:20180311T020000
TZOFFSETFROM:-0600
TZOFFSETTO:-0500
RDATE:20190310T020000
RDATE:20200308T020000
END:DAYLIGHT
END:VTIMEZONE
BEGIN:VEVENT
UID:2a2626a3-930b-4370-95fc-f3b7672130a8
DTSTAMP:20260421T142524Z
DESCRIPTION:Join Community Advocates Public Policy Institute's panel discus
 sion with state leaders from both parties to discover which policy changes
  will help Wisconsinites find and keep family-supporting jobs\, earn good 
 wages\, have health care coverage\, and thrive in 2019 and beyond. This ev
 ent is free and open to the public\, but an RSVP is appreciated to help us
  plan.
DTSTART;TZID=America/Chicago:20190208T150000
DTEND;TZID=America/Chicago:20190208T163000
LOCATION:Community Advocates Public Policy Institute\, 728 N. James Lovell 
 St.\, Second Floor Community Room\, Milwaukee
SUMMARY:State Leaders Look Ahead: Which Policies Will Ensure All Wisconsini
 tes Thrive?
END:VEVENT
END:VCALENDAR
