BEGIN:VCALENDAR
VERSION:2.0
PRODID:-//ppi.communityadvocates.net//NONSGML kigkonsult.se iCalcreator 2.3
 0.10//
CALSCALE:GREGORIAN
METHOD:PUBLISH
UID:d1ad20d5-74a5-4640-aad3-a3ded8d9b2b1
X-WR-CALDESC:Members of the MCSAP coalition will meet from noon to 2:30 p.m
 . Location to be determined. Interested in attending? Contact us.
X-WR-RELCALID:b63311d6859416d088ead04917622abc
X-WR-TIMEZONE:America/Chicago
BEGIN:VTIMEZONE
TZID:America/Chicago
BEGIN:STANDARD
TZNAME:CST
DTSTART:20181104T020000
TZOFFSETFROM:-0500
TZOFFSETTO:-0600
RDATE:20191103T020000
END:STANDARD
BEGIN:DAYLIGHT
TZNAME:CDT
DTSTART:20180311T020000
TZOFFSETFROM:-0600
TZOFFSETTO:-0500
RDATE:20190310T020000
RDATE:20200308T020000
END:DAYLIGHT
END:VTIMEZONE
BEGIN:VEVENT
UID:393e6f6e-3643-4083-a03e-05f162977024
DTSTAMP:20260421T153803Z
DESCRIPTION:Members of the MCSAP coalition will meet from noon to 2:30 p.m.
  Location to be determined. Interested in attending? Contact us.
DTSTART;TZID=America/Chicago:20190117T120000
DTEND;TZID=America/Chicago:20190117T143000
LOCATION:To Be Announced
SUMMARY:MCSAP Coalition Meeting
END:VEVENT
END:VCALENDAR
